BEGIN:VCALENDAR
VERSION:2.0
PRODID:-//Vineet Raj Kapoor - ECPv6.11.2//NONSGML v1.0//EN
CALSCALE:GREGORIAN
METHOD:PUBLISH
X-WR-CALNAME:Vineet Raj Kapoor
X-ORIGINAL-URL:https://www.vineetrajkapoor.com
X-WR-CALDESC:Events for Vineet Raj Kapoor
REFRESH-INTERVAL;VALUE=DURATION:PT1H
X-Robots-Tag:noindex
X-PUBLISHED-TTL:PT1H
BEGIN:VTIMEZONE
TZID:Asia/Kolkata
BEGIN:STANDARD
TZOFFSETFROM:+0530
TZOFFSETTO:+0530
TZNAME:IST
DTSTART:20220101T000000
END:STANDARD
END:VTIMEZONE
BEGIN:VEVENT
DTSTART;TZID=Asia/Kolkata:20220726T133000
DTEND;TZID=Asia/Kolkata:20220726T163000
DTSTAMP:20260423T085528
CREATED:20220726T165539Z
LAST-MODIFIED:20220902T111341Z
UID:3569-1658842200-1658853000@www.vineetrajkapoor.com
SUMMARY:Design Thinking Workshop
DESCRIPTION:Topic: Design Thinking Workshop\nVenue: CGC Landran\nDate: 26 Jul 2022\nTime: 1:30-3:30pm \nACIC-RISE Association\, Chandigarh Engineering College took immense pride in extending a very warm welcome to Prof. Vineet Raj Kapoor to join us as the distinguished speaker to deliver the Expert Session on Design Thinking on 26th July 2022\, 1:30-4:30 pm\, during Entrepreneurship workshop for Ideators was held from 25th July 2022-5th August 2022.  \nVineet Raj Kapoor is a renowned International Design Thinking Expert who is also India’s Industrial Design Technology Expert for Worldskills\, Eurasia\, BRICS Competiton and other such events. \n#cgclandran #designthinking #design #designschool #designtraining #adi #adichandigarh #wdo #sxill #sxillschool #chandigarhdesignschool #designthinkingworkshop #designthinkingexpert #designexpert #designspeaker #entrepreneurshipworkshop #innovationworkshop \n 
URL:https://www.vineetrajkapoor.com/event/design-thinking-workshop/
LOCATION:CGC Landran\, Landran\, Landran\, Punjab\, India
CATEGORIES:Mentor,Seminar,Speaker,Visiting Faculty,Workshop
END:VEVENT
END:VCALENDAR