BEGIN:VCALENDAR
VERSION:2.0
PRODID:-//Vineet Raj Kapoor - ECPv6.11.2//NONSGML v1.0//EN
CALSCALE:GREGORIAN
METHOD:PUBLISH
X-WR-CALNAME:Vineet Raj Kapoor
X-ORIGINAL-URL:https://www.vineetrajkapoor.com
X-WR-CALDESC:Events for Vineet Raj Kapoor
REFRESH-INTERVAL;VALUE=DURATION:PT1H
X-Robots-Tag:noindex
X-PUBLISHED-TTL:PT1H
BEGIN:VTIMEZONE
TZID:Asia/Kolkata
BEGIN:STANDARD
TZOFFSETFROM:+0530
TZOFFSETTO:+0530
TZNAME:IST
DTSTART:20230101T000000
END:STANDARD
END:VTIMEZONE
BEGIN:VEVENT
DTSTART;VALUE=DATE:20231010
DTEND;VALUE=DATE:20231011
DTSTAMP:20260422T232306
CREATED:20231009T171942Z
LAST-MODIFIED:20231009T172107Z
UID:3884-1696896000-1696982399@www.vineetrajkapoor.com
SUMMARY:Jury at Serious Play Awards\, Toronto Metropolitan University
DESCRIPTION:Board Games Jury at Serious Play Awards – Vineet Raj Kapoor\nVineet Raj Kapoor\nWorkshop at Serious Play Conference\, Toronto Metropolitan University\, Toronto\, Canada\nDate:  10 Oct 2023 \nTopic: Board Games Judgement for Serious Play Awards \nDate: 10 Oct 2023 \nTime: 11:00 AM – 4:00 PM \nVenue: The Creative School\, Rogers Communication Center\, Toronto Metropolitan University\, Toronto\, Canada \n 
URL:https://www.vineetrajkapoor.com/event/jury-at-serious-play-awards-toronto-metropolitan-university/
LOCATION:Toronto Metropolitan University\, Church Street\, Toronto\, Canada
CATEGORIES:Dialogue,Examiner,Judge,Mentor,Speaker
ATTACH;FMTTYPE=image/jpeg:https://www.vineetrajkapoor.com/wp-content/uploads/2023/10/Board-Games-Jury-at-Serious-Play-Awards-Vineet-Raj-Kapoor.jpg
END:VEVENT
BEGIN:VEVENT
DTSTART;VALUE=DATE:20231011
DTEND;VALUE=DATE:20231014
DTSTAMP:20260422T232306
CREATED:20230615T085522Z
LAST-MODIFIED:20231009T172250Z
UID:3858-1696982400-1697241599@www.vineetrajkapoor.com
SUMMARY:Speaker at Serious Play Conference 2023
DESCRIPTION:Serious Play Conference\, Toronto Metropolitan University\, Toronto\, Canada\nVineet Raj Kapoor\nWorkshop at Serious Play Conference\, Toronto Metropolitan University\, Toronto\, Canada\nDate:  11-13 Oct 2023 \nTopic: Gamifying Skill Training \nDate: 13 Oct 2023 \nTime: 9:30 AM \nVenue: The Creative School\, Rogers Communication Center\, Toronto Metropolitan University\, Toronto\, Canada \nI would like to share an actionable plan that you can use with Gamifying Skill Training. And if possible play a game to think our way out of a problem. remember\, that the core of gamification is involuntariness and my actionable plan is about building choices into any process including delivering of knowledge/ learning. \nIf possible\, I would like to share a case study as a take away. However let me see how it shapes up. \nAdditionally\, I shall be Jury for Serious Play Awards for 2023.
URL:https://www.vineetrajkapoor.com/event/speaker-at-serious-play-conference-2023/
LOCATION:Toronto Metropolitan University\, Church Street\, Toronto\, Canada
CATEGORIES:Guest Faculty,Innovator,Judge,Leader,Mentor,Seminar,Speaker,Visiting Faculty,Workshop
ATTACH;FMTTYPE=image/png:https://www.vineetrajkapoor.com/wp-content/uploads/2023/06/Serious-Play-Conference-2023.png
END:VEVENT
BEGIN:VEVENT
DTSTART;VALUE=DATE:20231016
DTEND;VALUE=DATE:20231017
DTSTAMP:20260422T232306
CREATED:20231009T173838Z
LAST-MODIFIED:20231009T180431Z
UID:3896-1697414400-1697500799@www.vineetrajkapoor.com
SUMMARY:Campus Tour - Sheridan College
DESCRIPTION:SXILL Founder\, Vineet Raj Kapoor\, has been invited to a Tour of Sheridan College\, Oakville\, for a Campus Tour and meetings with the Deans of Animation and Design Schools at Sheridan on 16 Oct 2023. He shall be spending a full day exploring Sheridan College and their pedagogy and practices.\nSXILL Founder\, Vineet Raj Kapoor\, has been invited to a Tour of Sheridan College\, Oakville\, for a Campus Tour and meetings with the Deans of Animation and Design Schools at Sheridan on 16 Oct 2023. He shall be spending a full day exploring Sheridan College and their pedagogy and practices.
URL:https://www.vineetrajkapoor.com/event/campus-tour-sheridan-college/
LOCATION:Sheridan College\, Oakville\, Ontario\, Canada
CATEGORIES:Dialogue,Guest Faculty,Leader,Seminar,Speaker,Visiting Faculty
END:VEVENT
BEGIN:VEVENT
DTSTART;TZID=Asia/Kolkata:20231023T110000
DTEND;TZID=Asia/Kolkata:20231023T120000
DTSTAMP:20260422T232306
CREATED:20231009T173203Z
LAST-MODIFIED:20231009T180447Z
UID:3892-1698058800-1698062400@www.vineetrajkapoor.com
SUMMARY:Design Thinking & Innovation Seminar
DESCRIPTION:PML SD Business School\nVineet Raj Kapoor’s Expert Session on “Design Thinking & Innovation” from 11 am to 12 Noon on October 23\, Monday at PML SD Business School\, Chandigarh \nTopic: Design Thinking & Innovation \nSpeaker: Vineet Raj Kapoor \nVenue: PML SD Business School \nDate: 23 Oct 2023 \nTime: 11:00 AM \nVineet Raj Kapoor’s Expert Session on “Design Thinking & Innovation” from 11 am to 12 Noon on October 23\, Monday at PML SD Business School\, Chandigarh
URL:https://www.vineetrajkapoor.com/event/design-thinking-innovation-seminar/
LOCATION:PML SD Business School\, Sec 32\, Chandigarh\, Chandigarh\, India
CATEGORIES:Dialogue,Guest Faculty,Leader,Mentor,Seminar,Speaker,Visiting Faculty,Workshop
END:VEVENT
BEGIN:VEVENT
DTSTART;VALUE=DATE:20231028
DTEND;VALUE=DATE:20231029
DTSTAMP:20260422T232306
CREATED:20231028T115439Z
LAST-MODIFIED:20240206T120252Z
UID:3924-1698451200-1698537599@www.vineetrajkapoor.com
SUMMARY:Asifa International Animation Day celebration at GCA Chandigarh
DESCRIPTION:Vineet Raj Kapoor at International Animation Day Chandigarh\nChandigarh\, 27 Oct 2023 – ASIFA presented the IAD Event at Government College of Arts on 27 Oct 2023\, co-presented by ASIFA Evangelist Vineet Raj Kapoor\, alongwith Chandigarh Design School\, and SXILL\, and supported by AnimationXpress\, Workkonnects\, MESC\, ACE Fair\, iXDA. \nThe Event started at 10:00 with the inauguration. This was followed by welcome address by Prof. Anjali Aggarwal\, and then the address by Professor Shri. Pramod\, HOD\, Government College of Arts\, Sec 10\, who express his delight on the event and the opportunity to the art student to absorb the latest developments in the market. Thereafter Mr. Bikramjit Singh\, Coordinator GO48 then presented the exciting opportunities presented by GO48 International to the audience. \nPanel Discussion with Guests Mr. Pradeep (Incredimate)\,Ms. Neelu Kapoor (SXILL)\, Prof. Anand Sharma (GCA)\, Dr. Walia (PEC)\, and Mr. Vineet Raj Kapoor (Chandigarh Design School). The panel was hosted by Mr. Bikramjit Singh\, who conducted the panel directly through student’s questions about the field. Students especially asked about creating professional portfolios\, and also about the impact of AI and strategies to handle the same. \nThis was followed by the Art Exhibition at Arts College which was reviewed by the eminent guests. The guests went through the art exhibition and spoke to each artist understanding their process. \nThereafter there were two expert sessions. \nFirst\, Mr. Vineet Raj Kapoor\, the Founder of Chandigarh Design School\, told the audience about the UXUI Sector and the opportunities it brings for the designers. He also shared many incidents from his life\, and also the lives of great leaders and how they used UX Design to resolve mammoth problems faced by humanity. \nParminder Singh\, Mentor SXILLUP\, enlightened the audience about Animation\, and how a student should go about cracking the Hollywood Studio interviews. He shared many incidents from the great animator’s lives to educate the students about the kind of preparation made by top animations. He spilled the secrets behind those animators and even shared the books and relevant materials for those students who wanted to self learn. \nInternational Animation Day Chandigarh\n  \n 
URL:https://www.vineetrajkapoor.com/event/asifa-international-animation-day-celebration-at-gca-chandigarh/
LOCATION:Government Fine Arts College\, Sec 10\, Chandigarh\, CHANDIGARH\, 160010\, India
CATEGORIES:Seminar,Speaker
ATTACH;FMTTYPE=image/png:https://www.vineetrajkapoor.com/wp-content/uploads/2024/02/Vineet-Raj-Kapoor-UXUI-Masterclass.png
ORGANIZER;CN="Chandigarh Design School":MAILTO:info@sxill.in
END:VEVENT
END:VCALENDAR