BEGIN:VCALENDAR
VERSION:2.0
PRODID:-//Vineet Raj Kapoor - ECPv6.11.2//NONSGML v1.0//EN
CALSCALE:GREGORIAN
METHOD:PUBLISH
X-WR-CALNAME:Vineet Raj Kapoor
X-ORIGINAL-URL:https://www.vineetrajkapoor.com
X-WR-CALDESC:Events for Vineet Raj Kapoor
REFRESH-INTERVAL;VALUE=DURATION:PT1H
X-Robots-Tag:noindex
X-PUBLISHED-TTL:PT1H
BEGIN:VTIMEZONE
TZID:Asia/Kolkata
BEGIN:STANDARD
TZOFFSETFROM:+0530
TZOFFSETTO:+0530
TZNAME:IST
DTSTART:20220101T000000
END:STANDARD
END:VTIMEZONE
BEGIN:VEVENT
DTSTART;VALUE=DATE:20220613
DTEND;VALUE=DATE:20220618
DTSTAMP:20260422T154430
CREATED:20220210T123803Z
LAST-MODIFIED:20220407T071803Z
UID:3530-1655078400-1655510399@www.vineetrajkapoor.com
SUMMARY:Speaker at Serious Play Conference 2022
DESCRIPTION:Serious Play Conference 2022 – Gamification of Innovation (Design Thinking) (Corporate/ Non Profit)\nVineet Raj Kapoor\nWorkshop at Serious Play Conference\, University of Central Florida\, Orlando\, USA\nDate:  13-17 June 2022 \nI would like to share an actionable plan that you can use with your Design Thinking/ Problem Solving Team. And if possible play a game to think our way out of a problem. remember\, that the core of gamification is involuntariness and my actionable plan is about building choices into any process including delivering of knowledge/ learning. \nIf possible\, I would like to share a case study as a take away. However let me see how it shapes up.
URL:https://www.vineetrajkapoor.com/event/speaker-at-serious-play-conference-2022/
LOCATION:University of Central Florida\, Orlando\, FL\, United States
CATEGORIES:Guest Faculty,Innovator,Seminar,Speaker,Visiting Faculty,Workshop
ATTACH;FMTTYPE=image/png:https://www.vineetrajkapoor.com/wp-content/uploads/2022/02/Serious-Play-Conference-2022.png
END:VEVENT
BEGIN:VEVENT
DTSTART;VALUE=DATE:20220629
DTEND;VALUE=DATE:20220630
DTSTAMP:20260422T154430
CREATED:20220409T123726Z
LAST-MODIFIED:20220409T123806Z
UID:3561-1656460800-1656547199@www.vineetrajkapoor.com
SUMMARY:Speaker at World Design Organisation (WDO) Event on 29 June 2022 at Moscow
DESCRIPTION:Speaker at World Design Organisation (WDO) Event on 29 June 2022 at Moscow \nWDO\, is granted a special status with UNESCO. Under the Invitation these are the positive outcomes expected:\n1. They (NCIDI) would organize the excursion to their design studio and production site.\n2. Our students can participate in the contest on design modelling ‘Design Challenge’\, where they would provide the place for work\, Wi-Fi\, the food and the mentor\n3. A 30 minute session by the Expert\, Vineet Raj Kapoor\, on Design\, at the International Industrial Design Day Celebration by WDO. \nWorld Industrial Design Day \nThis annual day of observance is held every 29 June\, WDO’s anniversary\, for industrial designers\, academics\, design students and non-designers impacted by the power if industrial design on a daily basis. This day of observance promotes awareness and the celebration of industrial design\, encouraging WDO Members and non-members to hold events such as exhibitions\, panels\, workshops\, open houses and other social functions. \nFrom 2009 to 2011\, an annual student poster competition was held for WDO’s Educational student members to participate; this activity concluded once the official World Industrial Design Day logo was introduced by WDO. Each year\, a theme is determined by the WDO Board of Directors and announced months in advance of 29 June in order for companies\, associations\, design schools and design agencies to plan their activities and outreach.
URL:https://www.vineetrajkapoor.com/event/speaker-at-world-design-organisation-wdo-event-on-29-june-2022-at-moscow/
CATEGORIES:Guest Faculty,Leader,Mentor,Speaker,Workshop
END:VEVENT
END:VCALENDAR