BEGIN:VCALENDAR
VERSION:2.0
PRODID:-//Vineet Raj Kapoor - ECPv6.11.2//NONSGML v1.0//EN
CALSCALE:GREGORIAN
METHOD:PUBLISH
X-WR-CALNAME:Vineet Raj Kapoor
X-ORIGINAL-URL:https://www.vineetrajkapoor.com
X-WR-CALDESC:Events for Vineet Raj Kapoor
REFRESH-INTERVAL;VALUE=DURATION:PT1H
X-Robots-Tag:noindex
X-PUBLISHED-TTL:PT1H
BEGIN:VTIMEZONE
TZID:Asia/Kolkata
BEGIN:STANDARD
TZOFFSETFROM:+0530
TZOFFSETTO:+0530
TZNAME:IST
DTSTART:20220101T000000
END:STANDARD
END:VTIMEZONE
BEGIN:VEVENT
DTSTART;VALUE=DATE:20221101
DTEND;VALUE=DATE:20221107
DTSTAMP:20260424T021758
CREATED:20220902T113152Z
LAST-MODIFIED:20220902T113514Z
UID:3588-1667260800-1667779199@www.vineetrajkapoor.com
SUMMARY:BRICS Future Skills Challenge Expert and Jury (IDT)
DESCRIPTION:SXILL Founder mentored Candidate Pranab P. Kumar\, from NID Ahmedabad\, and working with Frog Design\, shall be participating as India’s Candidate in Industrial Design Technology (IDT) at BRICS Future Skills Challenge Competition from 1-6 November September 2022. SXILL Founder Vineet Raj Kapoor is Expert and Jury representing India at the Competition. \nThe International Training camp will be held in the coming months wherein candidates and experts from Brazil\, South Africa\, India\, Russia\, China shall participate.
URL:https://www.vineetrajkapoor.com/event/brics-future-skills-challenge-expert-and-jury-idt/
CATEGORIES:Examiner,Judge,Leader
END:VEVENT
END:VCALENDAR