BEGIN:VCALENDAR
VERSION:2.0
PRODID:-//Vineet Raj Kapoor - ECPv6.11.2//NONSGML v1.0//EN
CALSCALE:GREGORIAN
METHOD:PUBLISH
X-WR-CALNAME:Vineet Raj Kapoor
X-ORIGINAL-URL:https://www.vineetrajkapoor.com
X-WR-CALDESC:Events for Vineet Raj Kapoor
REFRESH-INTERVAL;VALUE=DURATION:PT1H
X-Robots-Tag:noindex
X-PUBLISHED-TTL:PT1H
BEGIN:VTIMEZONE
TZID:Asia/Kolkata
BEGIN:STANDARD
TZOFFSETFROM:+0530
TZOFFSETTO:+0530
TZNAME:IST
DTSTART:20220101T000000
END:STANDARD
END:VTIMEZONE
BEGIN:VEVENT
DTSTART;VALUE=DATE:20221205
DTEND;VALUE=DATE:20221209
DTSTAMP:20260423T072539
CREATED:20220902T124720Z
LAST-MODIFIED:20230109T083234Z
UID:3592-1670198400-1670543999@www.vineetrajkapoor.com
SUMMARY:Jury at QS Reimagine Education Awards and Conference
DESCRIPTION:SXILL Founder Vineet Raj Kapoor is Expert and Jury representing India at the QS Reimagine Education Awards and Conference. The conference is being held at Cairo\, Egypt and Wharton School\, Philadelphia\, USA\nSXILL Founder Vineet Raj Kapoor is Expert and Jury representing India at the QS Reimagine Education Awards and Conference. The conference is being held at Cairo\, Egypt and Wharton School\, Philadelphia\, USA \nReimagine Education is a global conference and competition\, open to educational innovators from all around the world. The conference brings together edtech startups\, academic faculty from top institutions\, Chief Innovation Officers\, university leadership\, teachers\, and other stakeholders in the future of higher education teaching and learning. \nThe Reimagine Education Awards – the ‘Oscars’ of Education – reward innovative approaches that enhance student learning outcomes and employability\, offering $50\,000 in funding to the overall winners.
URL:https://www.vineetrajkapoor.com/event/jury-at-qs-reimagine-education-awards-and-conference/
LOCATION:Wharton School\, Philadelphia\, United States
CATEGORIES:Examiner,Judge,Leader
END:VEVENT
BEGIN:VEVENT
DTSTART;TZID=Asia/Kolkata:20221214T093000
DTEND;TZID=Asia/Kolkata:20221214T120000
DTSTAMP:20260423T072540
CREATED:20221213T173325Z
LAST-MODIFIED:20221219T091249Z
UID:3700-1671010200-1671019200@www.vineetrajkapoor.com
SUMMARY:New Age Careers - Seminar at Army Public School Chandimandir under Western Command
DESCRIPTION:Seminar at New Age Careers Army Public School Chandimandir under Western Command\nSXILL Founder Mr. Vineet Raj Kapoor Delivered a Seminar and took part in a panel discussion on New Age Careers like Graphic Design\, Animation\, UXUI\, Gamification for the advantage of 7000 students of Army Public Schools under Western Command of Indian Army. \nTime 9:30 AM \nDate: 14 December\, 2022 \nVenue: Army Public School Chandimandir \nAudience: 350 students of APS Chandimandir (offline) and 7000 students of APS under Western Command. \nVineet Raj Kapoor SXILL Founder answering queries at APS Chandimandir – Career Fest 2022\nFelicitation of Vineet Raj Kapoor SXILL Founder at APS Chandimandir – Career Fest 2022\nVineet Raj Kapoor SXILL Founder at APS Chandimandir – Career Fest 2022
URL:https://www.vineetrajkapoor.com/event/seminar-at-new-age-careers-army-public-school-chandimandir-under-western-command/
LOCATION:Army Public School Chandimandir\, Chandigarh\, Chandigarh\, India
CATEGORIES:Dialogue,Leader,Mentor,Seminar,Speaker
ATTACH;FMTTYPE=image/jpeg:https://www.vineetrajkapoor.com/wp-content/uploads/2022/12/New-Age-Careers-Army-Public-School-Chandimandir-Western-Command.jpeg
END:VEVENT
BEGIN:VEVENT
DTSTART;VALUE=DATE:20221216
DTEND;VALUE=DATE:20221217
DTSTAMP:20260423T072540
CREATED:20221216T182256Z
LAST-MODIFIED:20230109T083656Z
UID:3712-1671148800-1671235199@www.vineetrajkapoor.com
SUMMARY:Special Invitee to Collegedunia Connect 2.0
DESCRIPTION:with Abhishek Mishra (Ex Cabinet Minister UP) and his great ideas and enthusiasm at Collegedunia Connect 2.0 at Le Meridien Delhi on 16 Dec 2022\nAs a special Invitee to Collegedunia Connect 2.0\, our Founder took part in the Connect 2.0 proceedings and interacted with Chancellors/ Pro Chancellors/ Vice Chancellors/ Directors and Principals of top notch Universities and Colleges of India like BITS Pilani\, Woxsen University\, Bennett University\, Marwadi University\, XISS\, Sharda University\, Shobhit University\, Parul University\, Fostiima School\, Sparsh Business School and leading IAS Officers and Dignitaries of Government of India in Higher Education Sector. The Event was hosted by Collegedunia at Le Meridien\, New Delhi on 16 December 2022 starting with lamp lighting upto a Networking Dinner in the evening. During the day there were panel discussions on Reimagining Education in India @100 years\, Skills of the Future\, Inclusive Education System\, The Evolving Modes of Education\, Are we creating Civil Servants of Tomorrow. This was followed by Collegedunia Excellence Awards 2022. \nSXILL Team with the Appreciation Trophy recieved at Collegedunia Connect 2.0 on 16 Dec 2022\, at Le Meridien New Delhi\nCollegedunia Connect is a yearly event that celebrates Thought Leaders and Change Makers in the educational society. It is a Higher Education Summit that brings together key stakeholders including educationists\, industry leaders\, etc. This year at  Collegedunia Connect 2.0- The Delhi Chapter\, the theme was ‘Reimagining the Future’. Thus\, there were productive discussions revolving around India’s education system in 2047\, when India turns 100 as an independent nation. It was held on December 16\, 2022\, at Le Meridien\, New Delhi. \n 
URL:https://www.vineetrajkapoor.com/event/special-invitee-to-collegedunia-connect-2-0/
LOCATION:Le Meridien\, New Delhi
CATEGORIES:Dialogue,Leader,Mentor,Seminar
END:VEVENT
END:VCALENDAR